BEGIN:VCALENDAR
VERSION:2.0
PRODID:-//Pioneer Group - ECPv6.15.20//NONSGML v1.0//EN
CALSCALE:GREGORIAN
METHOD:PUBLISH
X-ORIGINAL-URL:https://thepioneergroup.com
X-WR-CALDESC:Events for Pioneer Group
REFRESH-INTERVAL;VALUE=DURATION:PT1H
X-Robots-Tag:noindex
X-PUBLISHED-TTL:PT1H
BEGIN:VTIMEZONE
TZID:Europe/London
BEGIN:DAYLIGHT
TZOFFSETFROM:+0000
TZOFFSETTO:+0100
TZNAME:BST
DTSTART:20250330T010000
END:DAYLIGHT
BEGIN:STANDARD
TZOFFSETFROM:+0100
TZOFFSETTO:+0000
TZNAME:GMT
DTSTART:20251026T010000
END:STANDARD
BEGIN:DAYLIGHT
TZOFFSETFROM:+0000
TZOFFSETTO:+0100
TZNAME:BST
DTSTART:20260329T010000
END:DAYLIGHT
BEGIN:STANDARD
TZOFFSETFROM:+0100
TZOFFSETTO:+0000
TZNAME:GMT
DTSTART:20261025T010000
END:STANDARD
BEGIN:DAYLIGHT
TZOFFSETFROM:+0000
TZOFFSETTO:+0100
TZNAME:BST
DTSTART:20270328T010000
END:DAYLIGHT
BEGIN:STANDARD
TZOFFSETFROM:+0100
TZOFFSETTO:+0000
TZNAME:GMT
DTSTART:20271031T010000
END:STANDARD
END:VTIMEZONE
BEGIN:VEVENT
DTSTART;TZID=Europe/London:20260513T120000
DTEND;TZID=Europe/London:20260513T133000
DTSTAMP:20260424T170246
CREATED:20260424T085257Z
LAST-MODIFIED:20260424T085352Z
UID:10000221-1778673600-1778679000@thepioneergroup.com
SUMMARY:Lunch & Learn: Alternative Funding
DESCRIPTION:Raising funds in life sciences doesn’t always follow a traditional path\, and increasingly\, companies are exploring alternative routes to get there. Join us for a ‘lunch & learn’ with the CEO of Galenband\, who led an oversubscribed\, crowdfunding round\, raising over €1.75M from 160+ investors. \nIn this session\, we’ll explore: \n\nWhy companies choose crowdfunding and alternative funding routes\nWhat it takes to run a successful campaign\nHow it compares to traditional VC and angel investment\nThe role of storytelling\, visibility\, and community in driving momentum\n\nThis will be a practical\, honest conversation designed for founders navigating the realities of fundraising\, whether you’re actively raising or planning ahead. \nLight lunch provided.
URL:https://thepioneergroup.com/event/lunch-learn-alternative-funding/
LOCATION:Pioneer Group at The Campus\, Cherrywood\, Cherrywood Business Park\, Building 10\, Block G\, Loughlinstown\, Co. Dublin\, D18 T3Y1\, Ireland
CATEGORIES:Accelerator,Networking
ATTACH;FMTTYPE=image/jpeg:https://thepioneergroup.com/wp-content/uploads/2026/03/Empowering-Women-Biotech-scaled.jpg
ORGANIZER;CN="Ventures Team - Pioneer Group":MAILTO:ventures@thepioneergroup.com
END:VEVENT
END:VCALENDAR